BEGIN:VCALENDAR
VERSION:2.0
PRODID:icalendar-ruby
CALSCALE:GREGORIAN
METHOD:PUBLISH
BEGIN:VEVENT
DTSTAMP:20260420T040115Z
UID:77-1392640@summitvillechurch.org
DTSTART:20260425T140000Z
DTEND:20260425T150000Z
CLASS:PUBLIC
CREATED:20260419T165315
DESCRIPTION:
LAST-MODIFIED:20260419T165315
LOCATION:
SUMMARY:Monthly prayer meeting 
URL;VALUE=URI:https://www.summitvillechurch.org/events/monthly-prayer-meeti
 ng--77/2026-04-25
END:VEVENT
END:VCALENDAR
