BEGIN:VCALENDAR
VERSION:2.0
PRODID:icalendar-ruby
CALSCALE:GREGORIAN
METHOD:PUBLISH
BEGIN:VEVENT
DTSTAMP:20260420T040633Z
UID:81-1392644@summitvillechurch.org
DTSTART:20260530T140000Z
DTEND:20260531T030000Z
CLASS:PUBLIC
CREATED:20260419T165858
DESCRIPTION:
LAST-MODIFIED:20260419T165858
LOCATION:
SUMMARY:Monthly Prayer Meeting 
URL;VALUE=URI:https://www.summitvillechurch.org/events/monthly-prayer-meeti
 ng--81/2026-05-30
END:VEVENT
END:VCALENDAR
