BEGIN:VCALENDAR
VERSION:2.0
PRODID:icalendar-ruby
CALSCALE:GREGORIAN
METHOD:PUBLISH
BEGIN:VEVENT
DTSTAMP:20260420T033258Z
UID:79-1392642@summitvillechurch.org
DTSTART:20260509T220000Z
DTEND:20260509T230000Z
CLASS:PUBLIC
CREATED:20260419T165551
DESCRIPTION:
LAST-MODIFIED:20260419T165551
LOCATION:
SUMMARY:Mothers Dinner/Craft Night
URL;VALUE=URI:https://www.summitvillechurch.org/events/mothers-dinner-craft
 -night/2026-05-09
END:VEVENT
END:VCALENDAR
