BEGIN:VCALENDAR
VERSION:2.0
PRODID:icalendar-ruby
CALSCALE:GREGORIAN
METHOD:PUBLISH
BEGIN:VEVENT
DTSTAMP:20260420T032544Z
UID:80-1392643@summitvillechurch.org
DTSTART;VALUE=DATE:20260507
DTEND;VALUE=DATE:20260507
CLASS:PUBLIC
CREATED:20260419T165747
DESCRIPTION:The church building will be open 8:00am-8:00pm for anyone who n
 eeds prayer.  
LAST-MODIFIED:20260419T165747
LOCATION:
SUMMARY:National Day of Prayer
URL;VALUE=URI:https://www.summitvillechurch.org/events/national-day-of-pray
 er/2026-05-07
END:VEVENT
END:VCALENDAR
