BEGIN:VCALENDAR
VERSION:2.0
PRODID:icalendar-ruby
CALSCALE:GREGORIAN
METHOD:PUBLISH
BEGIN:VEVENT
DTSTAMP:20260420T035307Z
UID:82-1392645@summitvillechurch.org
DTSTART;VALUE=DATE:20260606
DTEND;VALUE=DATE:20260606
CLASS:PUBLIC
CREATED:20260419T170133
DESCRIPTION:At Christian Fellowship. \nYard sale. \nall proceeds go to su
 pport the Food Pantry!
LAST-MODIFIED:20260419T170133
LOCATION:
SUMMARY:Summitville Food Pantry Fundraiser 
URL;VALUE=URI:https://www.summitvillechurch.org/events/summitville-food-pan
 try-fundraiser/2026-06-06
END:VEVENT
END:VCALENDAR
