BEGIN:VCALENDAR
VERSION:2.0
PRODID:icalendar-ruby
CALSCALE:GREGORIAN
METHOD:PUBLISH
BEGIN:VEVENT
DTSTAMP:20260420T034728Z
UID:78-1392641@summitvillechurch.org
DTSTART:20260425T000000Z
DTEND:20260425T010000Z
CLASS:PUBLIC
CREATED:20260419T165436
DESCRIPTION:If you have signed up to volunteer or are interested in volunte
 ering\, please come to this meeting!
LAST-MODIFIED:20260419T165436
LOCATION:
SUMMARY:VBS Volunteer Meeting 
URL;VALUE=URI:https://www.summitvillechurch.org/events/vbs-volunteer-meetin
 g/2026-04-24
END:VEVENT
END:VCALENDAR
